BEGIN:VCALENDAR
VERSION:2.0
PRODID:-//hacksw/handcal//NONSGML v1.0//EN
BEGIN:VEVENT
DTSTAMP:20170802T120000Z
DTSTART:20170802T120000Z
DTEND:20170802T120000Z
LOCATION:Boos Hus, Niederndorfer Str. 62, Deutschland
SUMMARY:Ferienspiele: Mountainbike-Tour
END:VEVENT
END:VCALENDAR
